BEGIN:VCALENDAR
VERSION:2.0
PRODID:-//Miguel Ángel Jiménez Golf Academy - ECPv6.15.20//NONSGML v1.0//EN
CALSCALE:GREGORIAN
METHOD:PUBLISH
X-WR-CALNAME:Miguel Ángel Jiménez Golf Academy
X-ORIGINAL-URL:https://miguelangeljimenezgolfacademy.com
X-WR-CALDESC:Eventos para Miguel Ángel Jiménez Golf Academy
REFRESH-INTERVAL;VALUE=DURATION:PT1H
X-Robots-Tag:noindex
X-PUBLISHED-TTL:PT1H
BEGIN:VTIMEZONE
TZID:Europe/Helsinki
BEGIN:DAYLIGHT
TZOFFSETFROM:+0200
TZOFFSETTO:+0300
TZNAME:EEST
DTSTART:20190331T010000
END:DAYLIGHT
BEGIN:STANDARD
TZOFFSETFROM:+0300
TZOFFSETTO:+0200
TZNAME:EET
DTSTART:20191027T010000
END:STANDARD
BEGIN:DAYLIGHT
TZOFFSETFROM:+0200
TZOFFSETTO:+0300
TZNAME:EEST
DTSTART:20200329T010000
END:DAYLIGHT
BEGIN:STANDARD
TZOFFSETFROM:+0300
TZOFFSETTO:+0200
TZNAME:EET
DTSTART:20201025T010000
END:STANDARD
BEGIN:DAYLIGHT
TZOFFSETFROM:+0200
TZOFFSETTO:+0300
TZNAME:EEST
DTSTART:20210328T010000
END:DAYLIGHT
BEGIN:STANDARD
TZOFFSETFROM:+0300
TZOFFSETTO:+0200
TZNAME:EET
DTSTART:20211031T010000
END:STANDARD
END:VTIMEZONE
BEGIN:VEVENT
DTSTART;TZID=Europe/Helsinki:20200927T090000
DTEND;TZID=Europe/Helsinki:20201115T170000
DTSTAMP:20260421T154047
CREATED:20230928T102355Z
LAST-MODIFIED:20230928T102355Z
UID:6686-1601197200-1605459600@miguelangeljimenezgolfacademy.com
SUMMARY:PRUEBAS MENSUALES 2020
DESCRIPTION:[et_pb_section fb_built=»1″ _builder_version=»4.0.6″ custom_padding=»0px||0px|||»][et_pb_row _builder_version=»4.0.6″][et_pb_column type=»4_4″ _builder_version=»4.0.6″][et_pb_button button_url=»@ET-DC@eyJkeW5hbWljIjp0cnVlLCJjb250ZW50IjoicG9zdF9saW5rX3VybF9hdHRhY2htZW50Iiwic2V0dGluZ3MiOnsicG9zdF9pZCI6IjM0NDgifX0=@» url_new_window=»on» button_text=»REGLAMENTO» button_alignment=»center» _builder_version=»4.5.7″ _dynamic_attributes=»button_url» custom_button=»on» button_text_color=»#000000″ button_bg_color=»#edf000″][/et_pb_button][/et_pb_column][/et_pb_row][et_pb_row column_structure=»1_3\,1_3\,1_3″ _builder_version=»4.0.6″ custom_margin=»15px|auto||auto||» custom_padding=»0px|||||»][et_pb_column type=»1_3″ _builder_version=»4.0.6″][et_pb_button button_url=»mailto:info@majgolfacademy.com» url_new_window=»on» button_text=»INSCRIPCIONES» button_alignment=»center» _builder_version=»4.5.7″ custom_button=»on» button_text_color=»#000000″ button_bg_color=»#edf000″][/et_pb_button][/et_pb_column][et_pb_column type=»1_3″ _builder_version=»4.0.6″][et_pb_button button_url=»#» url_new_window=»on» button_text=»HORARIOS» button_alignment=»center» _builder_version=»4.5.7″ custom_button=»on» button_text_color=»#000000″ button_bg_color=»#edf000″][/et_pb_button][/et_pb_column][et_pb_column type=»1_3″ _builder_version=»4.0.6″][et_pb_button button_url=»#» url_new_window=»on» button_text=»CLASIFICACION» button_alignment=»center» _builder_version=»4.5.7″ custom_button=»on» button_text_color=»#000000″ button_bg_color=»#edf000″][/et_pb_button][/et_pb_column][/et_pb_row][/et_pb_section]
URL:https://miguelangeljimenezgolfacademy.com/evento/pruebas-mensuales-2020/
LOCATION:Málaga
CATEGORIES:Torneo en MAJ|Tournament MAJ
ATTACH;FMTTYPE=image/jpeg:https://miguelangeljimenezgolfacademy.com/wp-content/uploads/2023/09/Putting-Green-Cartoon-tNkjxZ.tmp_.jpg
END:VEVENT
BEGIN:VEVENT
DTSTART;TZID=Europe/Helsinki:20201017T093000
DTEND;TZID=Europe/Helsinki:20201017T170000
DTSTAMP:20260421T154047
CREATED:20230928T102421Z
LAST-MODIFIED:20230928T102421Z
UID:6692-1602927000-1602954000@miguelangeljimenezgolfacademy.com
SUMMARY:Torneo LeClub
DESCRIPTION:[et_pb_section fb_built=»1″ admin_label=»section» _builder_version=»3.22″][et_pb_row column_structure=»1_2\,1_2″ admin_label=»row» _builder_version=»4.5.7″ background_size=»initial» background_position=»top_left» background_repeat=»repeat»][et_pb_column type=»1_2″ _builder_version=»4.5.7″ custom_padding=»|||» custom_padding__hover=»|||»][et_pb_text _builder_version=»4.5.7″ _module_preset=»default»] \nRECOMENDAMOS QUE SE LEAN DETENIDAMENTE LAS REGLAS LOCALES Y REGLAMENTO DEL TORNEO. \nNo se realizará entrega de premios. Solo premios especiales en el 1\, 4\, 7 y 9 de ambos recorridos\, es decir\, cada jugador tendrá dos oportunidades en cada uno de los hoyos. \nLa clasificación se colgará en esta misma sección. La organización enviará a los clasificados un email. \nAl finalizar la prueba\, se entregará los premios del sorteo\, el cual se realizará por la organización durante la misma. \nNo pierdas la oportunidad de clasificarte para la final nacional 2020 (inscripción 30€). Dicha final incluye: \n\nHabitación uso individual\nCena del viernes\,\nDesayuno del sábado\,\nGF del torneo\nCoctel de entrega de premios.\n\nNo incluye gastos de desplazamiento ni acompañante. \nPara participar el el mismo es necesario ser socio de LeClub. Puedes consultar todos los beneficios y condiciones del torneo aqui. \nEl reglamento de la prueba lo puedes encontrar aquí \nIMPORTANTE: Todos los participantes deberán entregar antes de jugar el Formulario. Se recomienda la lectura y aplicación del protocolo COVID-19. \n[/et_pb_text][/et_pb_column][et_pb_column type=»1_2″ _builder_version=»4.5.7″ custom_padding=»|||» custom_padding__hover=»|||»][et_pb_button button_url=»http://www.theamateurgolfworldcup.com/es/» url_new_window=»on» button_text=»CLASIFICACIÓN» _builder_version=»4.5.7″ _module_preset=»default»][/et_pb_button][et_pb_button button_url=»@ET-DC@eyJkeW5hbWljIjp0cnVlLCJjb250ZW50IjoicG9zdF9saW5rX3VybF9hdHRhY2htZW50Iiwic2V0dGluZ3MiOnsicG9zdF9pZCI6IjM1NTgifX0=@» url_new_window=»on» button_text=»REGLAS LOCALES» _builder_version=»4.5.7″ _dynamic_attributes=»button_url» _module_preset=»default»][/et_pb_button][/et_pb_column][/et_pb_row][/et_pb_section]
URL:https://miguelangeljimenezgolfacademy.com/evento/torneo-leclub/
LOCATION:Málaga
CATEGORIES:Torneo en MAJ|Tournament MAJ
ATTACH;FMTTYPE=image/jpeg:https://miguelangeljimenezgolfacademy.com/wp-content/uploads/2023/09/LeClub-MAJ-Golf-Academy-scaled-Z7qa92.tmp_.jpg
END:VEVENT
END:VCALENDAR