BEGIN:VCALENDAR
VERSION:2.0
PRODID:-//Miguel Ángel Jiménez Golf Academy - ECPv6.15.20//NONSGML v1.0//EN
CALSCALE:GREGORIAN
METHOD:PUBLISH
X-ORIGINAL-URL:https://miguelangeljimenezgolfacademy.com
X-WR-CALDESC:Eventos para Miguel Ángel Jiménez Golf Academy
REFRESH-INTERVAL;VALUE=DURATION:PT1H
X-Robots-Tag:noindex
X-PUBLISHED-TTL:PT1H
BEGIN:VTIMEZONE
TZID:Europe/Helsinki
BEGIN:DAYLIGHT
TZOFFSETFROM:+0200
TZOFFSETTO:+0300
TZNAME:EEST
DTSTART:20190331T010000
END:DAYLIGHT
BEGIN:STANDARD
TZOFFSETFROM:+0300
TZOFFSETTO:+0200
TZNAME:EET
DTSTART:20191027T010000
END:STANDARD
BEGIN:DAYLIGHT
TZOFFSETFROM:+0200
TZOFFSETTO:+0300
TZNAME:EEST
DTSTART:20200329T010000
END:DAYLIGHT
BEGIN:STANDARD
TZOFFSETFROM:+0300
TZOFFSETTO:+0200
TZNAME:EET
DTSTART:20201025T010000
END:STANDARD
BEGIN:DAYLIGHT
TZOFFSETFROM:+0200
TZOFFSETTO:+0300
TZNAME:EEST
DTSTART:20210328T010000
END:DAYLIGHT
BEGIN:STANDARD
TZOFFSETFROM:+0300
TZOFFSETTO:+0200
TZNAME:EET
DTSTART:20211031T010000
END:STANDARD
END:VTIMEZONE
BEGIN:VEVENT
DTSTART;TZID=Europe/Helsinki:20200601T000000
DTEND;TZID=Europe/Helsinki:20200926T235900
DTSTAMP:20260421T172341
CREATED:20230928T102413Z
LAST-MODIFIED:20230928T102413Z
UID:6688-1590969600-1601164740@miguelangeljimenezgolfacademy.com
SUMMARY:Match Play Race To Real Club de Sotogrande
DESCRIPTION:[et_pb_section fb_built=»1″ _builder_version=»4.4.8″][et_pb_row column_structure=»3_4\,1_4″ _builder_version=»4.4.8″][et_pb_column type=»3_4″ _builder_version=»3.25″ custom_padding=»|||» custom_padding__hover=»|||»][et_pb_text _builder_version=»4.4.8″] \nEnhorabuena a los que habéis ganado!! También a los que no\, aun hay posibilidades de poder jugar en El Real de Sotogrande. Ambos cuadros tenéis hasta el 26 de julio para jugar vuestros partidos. MUCHA SUERTE!! \nEl caddie master os proporcionará el contacto de vuestro contrario (951 90 94 90 o WhatsApp 637 54 50 56) además de los handicaps a jugar el Match cuando empecéis vuestros partidos. \n[/et_pb_text][/et_pb_column][et_pb_column type=»1_4″ _builder_version=»3.25″ custom_padding=»|||» custom_padding__hover=»|||»][et_pb_button button_url=»@ET-DC@eyJkeW5hbWljIjp0cnVlLCJjb250ZW50IjoicG9zdF9saW5rX3VybF9hdHRhY2htZW50Iiwic2V0dGluZ3MiOnsicG9zdF9pZCI6IjMzNzQifX0=@» url_new_window=»on» button_text=»REGLAMENTO» admin_label=»Botón» _builder_version=»4.5.5″ hover_enabled=»0″ _dynamic_attributes=»button_url»][/et_pb_button][et_pb_button button_url=»@ET-DC@eyJkeW5hbWljIjp0cnVlLCJjb250ZW50IjoicG9zdF9saW5rX3VybF9hdHRhY2htZW50Iiwic2V0dGluZ3MiOnsicG9zdF9pZCI6IjMzNzIifX0=@» url_new_window=»on» button_text=»CUADRO A» _builder_version=»4.5.5″ _dynamic_attributes=»button_url» hover_enabled=»0″][/et_pb_button][et_pb_button button_url=»@ET-DC@eyJkeW5hbWljIjp0cnVlLCJjb250ZW50IjoicG9zdF9saW5rX3VybF9hdHRhY2htZW50Iiwic2V0dGluZ3MiOnsicG9zdF9pZCI6IjMzNzMifX0=@» url_new_window=»on» button_text=»CUADRO B» _builder_version=»4.5.5″ _dynamic_attributes=»button_url» hover_enabled=»0″][/et_pb_button][et_pb_button button_url=»@ET-DC@eyJkeW5hbWljIjp0cnVlLCJjb250ZW50IjoicG9zdF9saW5rX3VybF9hdHRhY2htZW50Iiwic2V0dGluZ3MiOnsicG9zdF9pZCI6IjMzNzEifX0=@» url_new_window=»on» button_text=»LISTADO HANDICAPS» _builder_version=»4.5.5″ _dynamic_attributes=»button_url» hover_enabled=»0″][/et_pb_button][et_pb_button button_url=»@ET-DC@eyJkeW5hbWljIjp0cnVlLCJjb250ZW50IjoicG9zdF9saW5rX3VybF9hdHRhY2htZW50Iiwic2V0dGluZ3MiOnsicG9zdF9pZCI6IjMyMzIifX0=@» url_new_window=»on» button_text=»LISTADO INSCRITOS» _builder_version=»4.4.8″ _dynamic_attributes=»button_url»][/et_pb_button][/et_pb_column][/et_pb_row][/et_pb_section]
URL:https://miguelangeljimenezgolfacademy.com/evento/match-play-race-to-real-club-de-sotogrande/
LOCATION:Málaga
CATEGORIES:Torneo en MAJ|Tournament MAJ
END:VEVENT
END:VCALENDAR