BEGIN:VCALENDAR
VERSION:2.0
PRODID:-//Miguel Ángel Jiménez Golf Academy - ECPv6.15.20//NONSGML v1.0//EN
CALSCALE:GREGORIAN
METHOD:PUBLISH
X-ORIGINAL-URL:https://miguelangeljimenezgolfacademy.com
X-WR-CALDESC:Eventos para Miguel Ángel Jiménez Golf Academy
REFRESH-INTERVAL;VALUE=DURATION:PT1H
X-Robots-Tag:noindex
X-PUBLISHED-TTL:PT1H
BEGIN:VTIMEZONE
TZID:Europe/Helsinki
BEGIN:DAYLIGHT
TZOFFSETFROM:+0200
TZOFFSETTO:+0300
TZNAME:EEST
DTSTART:20190331T010000
END:DAYLIGHT
BEGIN:STANDARD
TZOFFSETFROM:+0300
TZOFFSETTO:+0200
TZNAME:EET
DTSTART:20191027T010000
END:STANDARD
BEGIN:DAYLIGHT
TZOFFSETFROM:+0200
TZOFFSETTO:+0300
TZNAME:EEST
DTSTART:20200329T010000
END:DAYLIGHT
BEGIN:STANDARD
TZOFFSETFROM:+0300
TZOFFSETTO:+0200
TZNAME:EET
DTSTART:20201025T010000
END:STANDARD
BEGIN:DAYLIGHT
TZOFFSETFROM:+0200
TZOFFSETTO:+0300
TZNAME:EEST
DTSTART:20210328T010000
END:DAYLIGHT
BEGIN:STANDARD
TZOFFSETFROM:+0300
TZOFFSETTO:+0200
TZNAME:EET
DTSTART:20211031T010000
END:STANDARD
END:VTIMEZONE
BEGIN:VEVENT
DTSTART;TZID=Europe/Helsinki:20200314T090000
DTEND;TZID=Europe/Helsinki:20200314T170000
DTSTAMP:20260422T014307
CREATED:20230928T102354Z
LAST-MODIFIED:20230928T102354Z
UID:6685-1584176400-1584205200@miguelangeljimenezgolfacademy.com
SUMMARY:Pequecircuito
DESCRIPTION:
URL:https://miguelangeljimenezgolfacademy.com/evento/pequecircuito-4/
LOCATION:Málaga
CATEGORIES:Torneo en MAJ|Tournament MAJ
ATTACH;FMTTYPE=image/jpeg:https://miguelangeljimenezgolfacademy.com/wp-content/uploads/2023/09/IMG_9297-e1548878303535-6feZWm.tmp_.jpg
END:VEVENT
END:VCALENDAR