BEGIN:VCALENDAR
VERSION:2.0
PRODID:-//Miguel Ángel Jiménez Golf Academy - ECPv6.15.20//NONSGML v1.0//EN
CALSCALE:GREGORIAN
METHOD:PUBLISH
X-ORIGINAL-URL:https://miguelangeljimenezgolfacademy.com
X-WR-CALDESC:Eventos para Miguel Ángel Jiménez Golf Academy
REFRESH-INTERVAL;VALUE=DURATION:PT1H
X-Robots-Tag:noindex
X-PUBLISHED-TTL:PT1H
BEGIN:VTIMEZONE
TZID:Europe/Helsinki
BEGIN:DAYLIGHT
TZOFFSETFROM:+0200
TZOFFSETTO:+0300
TZNAME:EEST
DTSTART:20190331T010000
END:DAYLIGHT
BEGIN:STANDARD
TZOFFSETFROM:+0300
TZOFFSETTO:+0200
TZNAME:EET
DTSTART:20191027T010000
END:STANDARD
BEGIN:DAYLIGHT
TZOFFSETFROM:+0200
TZOFFSETTO:+0300
TZNAME:EEST
DTSTART:20200329T010000
END:DAYLIGHT
BEGIN:STANDARD
TZOFFSETFROM:+0300
TZOFFSETTO:+0200
TZNAME:EET
DTSTART:20201025T010000
END:STANDARD
BEGIN:DAYLIGHT
TZOFFSETFROM:+0200
TZOFFSETTO:+0300
TZNAME:EEST
DTSTART:20210328T010000
END:DAYLIGHT
BEGIN:STANDARD
TZOFFSETFROM:+0300
TZOFFSETTO:+0200
TZNAME:EET
DTSTART:20211031T010000
END:STANDARD
END:VTIMEZONE
BEGIN:VEVENT
DTSTART;TZID=Europe/Helsinki:20200927T090000
DTEND;TZID=Europe/Helsinki:20201115T170000
DTSTAMP:20260421T130333
CREATED:20230928T102355Z
LAST-MODIFIED:20230928T102355Z
UID:6686-1601197200-1605459600@miguelangeljimenezgolfacademy.com
SUMMARY:PRUEBAS MENSUALES 2020
DESCRIPTION:[et_pb_section fb_built=»1″ _builder_version=»4.0.6″ custom_padding=»0px||0px|||»][et_pb_row _builder_version=»4.0.6″][et_pb_column type=»4_4″ _builder_version=»4.0.6″][et_pb_button button_url=»@ET-DC@eyJkeW5hbWljIjp0cnVlLCJjb250ZW50IjoicG9zdF9saW5rX3VybF9hdHRhY2htZW50Iiwic2V0dGluZ3MiOnsicG9zdF9pZCI6IjM0NDgifX0=@» url_new_window=»on» button_text=»REGLAMENTO» button_alignment=»center» _builder_version=»4.5.7″ _dynamic_attributes=»button_url» custom_button=»on» button_text_color=»#000000″ button_bg_color=»#edf000″][/et_pb_button][/et_pb_column][/et_pb_row][et_pb_row column_structure=»1_3\,1_3\,1_3″ _builder_version=»4.0.6″ custom_margin=»15px|auto||auto||» custom_padding=»0px|||||»][et_pb_column type=»1_3″ _builder_version=»4.0.6″][et_pb_button button_url=»mailto:info@majgolfacademy.com» url_new_window=»on» button_text=»INSCRIPCIONES» button_alignment=»center» _builder_version=»4.5.7″ custom_button=»on» button_text_color=»#000000″ button_bg_color=»#edf000″][/et_pb_button][/et_pb_column][et_pb_column type=»1_3″ _builder_version=»4.0.6″][et_pb_button button_url=»#» url_new_window=»on» button_text=»HORARIOS» button_alignment=»center» _builder_version=»4.5.7″ custom_button=»on» button_text_color=»#000000″ button_bg_color=»#edf000″][/et_pb_button][/et_pb_column][et_pb_column type=»1_3″ _builder_version=»4.0.6″][et_pb_button button_url=»#» url_new_window=»on» button_text=»CLASIFICACION» button_alignment=»center» _builder_version=»4.5.7″ custom_button=»on» button_text_color=»#000000″ button_bg_color=»#edf000″][/et_pb_button][/et_pb_column][/et_pb_row][/et_pb_section]
URL:https://miguelangeljimenezgolfacademy.com/evento/pruebas-mensuales-2020/
LOCATION:Málaga
CATEGORIES:Torneo en MAJ|Tournament MAJ
ATTACH;FMTTYPE=image/jpeg:https://miguelangeljimenezgolfacademy.com/wp-content/uploads/2023/09/Putting-Green-Cartoon-tNkjxZ.tmp_.jpg
END:VEVENT
BEGIN:VEVENT
DTSTART;TZID=Europe/Helsinki:20201114T080000
DTEND;TZID=Europe/Helsinki:20201114T170000
DTSTAMP:20260421T130333
CREATED:20230928T102422Z
LAST-MODIFIED:20230928T102422Z
UID:6693-1605340800-1605373200@miguelangeljimenezgolfacademy.com
SUMMARY:Interclub LOS MORISCOS GOLF-MAJ GOLF ACADEMY
DESCRIPTION:[et_pb_section fb_built=»1″ _builder_version=»4.5.7″ _module_preset=»default» background_enable_image=»off»][et_pb_row column_structure=»1_2\,1_2″ _builder_version=»4.5.7″ _module_preset=»default» background_enable_image=»off»][et_pb_column type=»1_2″ _builder_version=»4.5.7″ _module_preset=»default»][et_pb_text _builder_version=»4.5.7″ _module_preset=»default»] \nInterclubs Los Moriscos-MAJ Golf Academy \n\nSábado 24 de octubre. Ida Los Moriscos Golf. Precio 49€\nSábado 14 de Noviembre. Vuelta MAJ Golf Academy (20€ Abonados)\nAmbos precios incluyen GF 18 hoyos y Almuerzo o coctel con bebidas\nPlazas limitadas a 20 jugadores.\nFecha límite de inscripción 10.11.2020\nModalidad. Individual Stableford (10 mejores tarjetas).\n\n[/et_pb_text][/et_pb_column][et_pb_column type=»1_2″ _builder_version=»4.5.7″ _module_preset=»default»][et_pb_button button_url=»mailto:%20info@majgolfacademy.com» url_new_window=»on» button_text=»INSCRIPCIÓN» _builder_version=»4.5.7″ _module_preset=»default»][/et_pb_button][/et_pb_column][/et_pb_row][/et_pb_section]
URL:https://miguelangeljimenezgolfacademy.com/evento/interclub-los-moriscos-golf-maj-golf-academy/
LOCATION:Málaga
CATEGORIES:Torneo en MAJ|Tournament MAJ
ATTACH;FMTTYPE=image/jpeg:https://miguelangeljimenezgolfacademy.com/wp-content/uploads/2023/09/Interclub-Los-Moriscos-Golf-24Vlrx.tmp_.jpg
END:VEVENT
BEGIN:VEVENT
DTSTART;TZID=Europe/Helsinki:20201128T000000
DTEND;TZID=Europe/Helsinki:20201128T235900
DTSTAMP:20260421T130333
CREATED:20230928T102423Z
LAST-MODIFIED:20230928T102423Z
UID:6695-1606521600-1606607940@miguelangeljimenezgolfacademy.com
SUMMARY:Circuito Race to Carnoustie
DESCRIPTION:[et_pb_section fb_built=»1″ _builder_version=»4.5.7″ _module_preset=»default» background_enable_image=»off»][et_pb_row column_structure=»1_2\,1_2″ _builder_version=»4.5.7″ _module_preset=»default» background_enable_image=»off»][et_pb_column type=»1_2″ _builder_version=»4.5.7″ _module_preset=»default»][et_pb_text _builder_version=»4.5.7″ _module_preset=»default»] \nQuieres jugar en unos de los campos más emblemáticos de Escocia y el mundo?? No esperes e inscríbete al Circuito Race To Carnoustie. \n\nSábado 28 de Noviembre. \nPareja Mejor Bola Stableford.\nPremios: Clasificarán para la final de zona correspondiente las dos primeras parejas\nCierre de Inscripción 26 de noviembre\nSe recomienda lectura de reglamento de Ligas Golf\n\n[/et_pb_text][/et_pb_column][et_pb_column type=»1_2″ _builder_version=»4.5.7″ _module_preset=»default»][et_pb_button button_url=»mailto:%20info@majgolfacademy.com» url_new_window=»on» button_text=»INSCRIPCIÓN» _builder_version=»4.5.7″ _module_preset=»default»][/et_pb_button][/et_pb_column][/et_pb_row][/et_pb_section]
URL:https://miguelangeljimenezgolfacademy.com/evento/circuito-race-to-carnoustie/
LOCATION:Málaga
CATEGORIES:Torneo en MAJ|Tournament MAJ
ATTACH;FMTTYPE=image/jpeg:https://miguelangeljimenezgolfacademy.com/wp-content/uploads/2023/09/MAJ-RACE-TO-CARNOUSTIE-ABIERTO-4-RHaH8o.tmp_.jpg
END:VEVENT
END:VCALENDAR