BEGIN:VCALENDAR
VERSION:2.0
PRODID:-//Miguel Ángel Jiménez Golf Academy - ECPv6.15.20//NONSGML v1.0//EN
CALSCALE:GREGORIAN
METHOD:PUBLISH
X-WR-CALNAME:Miguel Ángel Jiménez Golf Academy
X-ORIGINAL-URL:https://miguelangeljimenezgolfacademy.com
X-WR-CALDESC:Eventos para Miguel Ángel Jiménez Golf Academy
REFRESH-INTERVAL;VALUE=DURATION:PT1H
X-Robots-Tag:noindex
X-PUBLISHED-TTL:PT1H
BEGIN:VTIMEZONE
TZID:Europe/Helsinki
BEGIN:DAYLIGHT
TZOFFSETFROM:+0200
TZOFFSETTO:+0300
TZNAME:EEST
DTSTART:20180325T010000
END:DAYLIGHT
BEGIN:STANDARD
TZOFFSETFROM:+0300
TZOFFSETTO:+0200
TZNAME:EET
DTSTART:20181028T010000
END:STANDARD
BEGIN:DAYLIGHT
TZOFFSETFROM:+0200
TZOFFSETTO:+0300
TZNAME:EEST
DTSTART:20190331T010000
END:DAYLIGHT
BEGIN:STANDARD
TZOFFSETFROM:+0300
TZOFFSETTO:+0200
TZNAME:EET
DTSTART:20191027T010000
END:STANDARD
BEGIN:DAYLIGHT
TZOFFSETFROM:+0200
TZOFFSETTO:+0300
TZNAME:EEST
DTSTART:20200329T010000
END:DAYLIGHT
BEGIN:STANDARD
TZOFFSETFROM:+0300
TZOFFSETTO:+0200
TZNAME:EET
DTSTART:20201025T010000
END:STANDARD
END:VTIMEZONE
BEGIN:VEVENT
DTSTART;TZID=Europe/Helsinki:20191214T150000
DTEND;TZID=Europe/Helsinki:20191214T180000
DTSTAMP:20260422T045210
CREATED:20230928T101949Z
LAST-MODIFIED:20230928T101949Z
UID:6671-1576335600-1576346400@miguelangeljimenezgolfacademy.com
SUMMARY:Liga Beginners Curso 2019/2020 - 3ª prueba
DESCRIPTION:[et_pb_section fb_built=»1″ _builder_version=»4.0.6″][et_pb_row _builder_version=»4.0.6″][et_pb_column type=»4_4″ _builder_version=»4.0.6″][et_pb_button button_url=»#» url_new_window=»on» button_text=»REGLAMENTO» button_alignment=»center» _builder_version=»4.0.6″ custom_button=»on» button_text_color=»#000000″ button_bg_color=»#edf000″][/et_pb_button][/et_pb_column][/et_pb_row][et_pb_row column_structure=»1_4\,1_4\,1_4\,1_4″ _builder_version=»4.0.6″][et_pb_column type=»1_4″ _builder_version=»4.0.6″][et_pb_button button_url=»mailto:academia@majgolfacademy.com» url_new_window=»on» button_text=»INSCRIPCIONES» button_alignment=»center» _builder_version=»4.0.6″ custom_button=»on» button_text_color=»#000000″ button_bg_color=»#edf000″][/et_pb_button][/et_pb_column][et_pb_column type=»1_4″ _builder_version=»4.0.6″][et_pb_button button_url=»@ET-DC@eyJkeW5hbWljIjp0cnVlLCJjb250ZW50IjoicG9zdF9saW5rX3VybF9hdHRhY2htZW50Iiwic2V0dGluZ3MiOnsicG9zdF9pZCI6IjI0MDUifX0=@» url_new_window=»on» button_text=»HORARIOS» button_alignment=»center» _builder_version=»4.0.9″ _dynamic_attributes=»button_url» custom_button=»on» button_text_color=»#000000″ button_bg_color=»#edf000″][/et_pb_button][/et_pb_column][et_pb_column type=»1_4″ _builder_version=»4.0.6″][et_pb_button button_url=»@ET-DC@eyJkeW5hbWljIjp0cnVlLCJjb250ZW50IjoicG9zdF9saW5rX3VybF9hdHRhY2htZW50Iiwic2V0dGluZ3MiOnsicG9zdF9pZCI6IjI0MTkifX0=@» url_new_window=»on» button_text=»CLASIFICACION» button_alignment=»center» _builder_version=»4.0.9″ custom_button=»on» button_text_color=»#000000″ button_bg_color=»#edf000″ hover_enabled=»0″ _dynamic_attributes=»button_url»][/et_pb_button][/et_pb_column][et_pb_column type=»1_4″ _builder_version=»4.0.6″][et_pb_button button_url=»@ET-DC@eyJkeW5hbWljIjp0cnVlLCJjb250ZW50IjoicG9zdF9saW5rX3VybF9hdHRhY2htZW50Iiwic2V0dGluZ3MiOnsicG9zdF9pZCI6IjI0MTgifX0=@» url_new_window=»on» button_text=»RANKING» button_alignment=»center» _builder_version=»4.0.9″ custom_button=»on» button_text_color=»#000000″ button_bg_color=»#edf000″ hover_enabled=»0″ _dynamic_attributes=»button_url»][/et_pb_button][/et_pb_column][/et_pb_row][/et_pb_section]
URL:https://miguelangeljimenezgolfacademy.com/evento/liga-beginners-curso-2019-2020-3a-prueba/
LOCATION:Málaga
CATEGORIES:Torneo en MAJ|Tournament MAJ
ATTACH;FMTTYPE=image/png:https://miguelangeljimenezgolfacademy.com/wp-content/uploads/2023/09/LIGA-BEGINNERS-19_20-2-KUnOPz.tmp_.png
END:VEVENT
BEGIN:VEVENT
DTSTART;TZID=Europe/Helsinki:20191222T133000
DTEND;TZID=Europe/Helsinki:20191222T180000
DTSTAMP:20260422T045210
CREATED:20230928T101951Z
LAST-MODIFIED:20230928T101957Z
UID:6672-1577021400-1577037600@miguelangeljimenezgolfacademy.com
SUMMARY:III Torneo Academia Infantil
DESCRIPTION:[et_pb_section fb_built=»1″ _builder_version=»4.0.6″][et_pb_row _builder_version=»4.0.6″][et_pb_column type=»4_4″ _builder_version=»4.0.6″][et_pb_button button_url=»#» url_new_window=»on» button_text=»REGLAMENTO» button_alignment=»center» _builder_version=»4.0.6″ custom_button=»on» button_text_color=»#000000″ button_bg_color=»#edf000″][/et_pb_button][/et_pb_column][/et_pb_row][et_pb_row column_structure=»1_4\,1_4\,1_4\,1_4″ _builder_version=»4.0.6″][et_pb_column type=»1_4″ _builder_version=»4.0.6″][et_pb_button button_url=»mailto:academia@majgolfacademy.com» url_new_window=»on» button_text=»INSCRIPCIONES» button_alignment=»center» _builder_version=»4.0.6″ custom_button=»on» button_text_color=»#000000″ button_bg_color=»#edf000″][/et_pb_button][/et_pb_column][et_pb_column type=»1_4″ _builder_version=»4.0.6″][et_pb_button button_url=»@ET-DC@eyJkeW5hbWljIjp0cnVlLCJjb250ZW50IjoicG9zdF9saW5rX3VybF9hdHRhY2htZW50Iiwic2V0dGluZ3MiOnsicG9zdF9pZCI6IjI0MjMifX0=@» url_new_window=»on» button_text=»HORARIOS» button_alignment=»center» _builder_version=»4.0.9″ _dynamic_attributes=»button_url» custom_button=»on» button_text_color=»#000000″ button_bg_color=»#edf000″][/et_pb_button][/et_pb_column][et_pb_column type=»1_4″ _builder_version=»4.0.6″][et_pb_button button_url=»@ET-DC@eyJkeW5hbWljIjp0cnVlLCJjb250ZW50IjoicG9zdF9saW5rX3VybF9hdHRhY2htZW50Iiwic2V0dGluZ3MiOnsicG9zdF9pZCI6IjI0MjkifX0=@» url_new_window=»on» button_text=»CLASIFICACION» button_alignment=»center» _builder_version=»4.0.9″ custom_button=»on» button_text_color=»#000000″ button_bg_color=»#edf000″ hover_enabled=»0″ _dynamic_attributes=»button_url»][/et_pb_button][/et_pb_column][et_pb_column type=»1_4″ _builder_version=»4.0.6″][et_pb_button button_url=»@ET-DC@eyJkeW5hbWljIjp0cnVlLCJjb250ZW50IjoicG9zdF9saW5rX3VybF9hdHRhY2htZW50Iiwic2V0dGluZ3MiOnsicG9zdF9pZCI6IjI0MzAifX0=@» url_new_window=»on» button_text=»RANKING» button_alignment=»center» _builder_version=»4.0.9″ custom_button=»on» button_text_color=»#000000″ button_bg_color=»#edf000″ hover_enabled=»0″ _dynamic_attributes=»button_url»][/et_pb_button][/et_pb_column][/et_pb_row][/et_pb_section]
URL:https://miguelangeljimenezgolfacademy.com/evento/iii-torneo-academia-infantil-2/
LOCATION:Málaga
CATEGORIES:Torneo en MAJ|Tournament MAJ
ATTACH;FMTTYPE=image/png:https://miguelangeljimenezgolfacademy.com/wp-content/uploads/2023/09/III-TORNEO-ACADEMIA-INFANTIL-19_20-LyHcU2.tmp_.png
END:VEVENT
BEGIN:VEVENT
DTSTART;TZID=Europe/Helsinki:20191228T093000
DTEND;TZID=Europe/Helsinki:20191228T150000
DTSTAMP:20260422T045210
CREATED:20230928T101952Z
LAST-MODIFIED:20230928T101958Z
UID:6673-1577525400-1577545200@miguelangeljimenezgolfacademy.com
SUMMARY:Circuito de Golf Reale Galpe - 8ª prueba
DESCRIPTION:[et_pb_section fb_built=»1″ _builder_version=»4.0.6″][et_pb_row _builder_version=»4.0.6″ custom_padding=»8px|||||»][et_pb_column type=»4_4″ _builder_version=»4.0.6″][/et_pb_column][/et_pb_row][et_pb_row column_structure=»1_4\,1_4\,1_4\,1_4″ _builder_version=»4.0.6″][et_pb_column type=»1_4″ _builder_version=»4.0.6″][et_pb_button button_url=»mailto:academia@majgolfacademy.com» url_new_window=»on» button_text=»INSCRIPCIONES» button_alignment=»center» _builder_version=»4.0.6″ custom_button=»on» button_text_color=»#000000″ button_bg_color=»#edf000″][/et_pb_button][/et_pb_column][et_pb_column type=»1_4″ _builder_version=»4.0.6″][et_pb_button button_url=»#» url_new_window=»on» button_text=»HORARIOS» button_alignment=»center» _builder_version=»4.0.6″ custom_button=»on» button_text_color=»#000000″ button_bg_color=»#edf000″][/et_pb_button][/et_pb_column][et_pb_column type=»1_4″ _builder_version=»4.0.6″][et_pb_button button_url=»@ET-DC@eyJkeW5hbWljIjp0cnVlLCJjb250ZW50IjoicG9zdF9saW5rX3VybF9hdHRhY2htZW50Iiwic2V0dGluZ3MiOnsicG9zdF9pZCI6IjI1MTAifX0=@» url_new_window=»on» button_text=»CLASIFICACION» button_alignment=»center» _builder_version=»4.0.11″ custom_button=»on» button_text_color=»#000000″ button_bg_color=»#edf000″ hover_enabled=»0″ _dynamic_attributes=»button_url»][/et_pb_button][/et_pb_column][et_pb_column type=»1_4″ _builder_version=»4.0.6″][et_pb_button button_url=»@ET-DC@eyJkeW5hbWljIjp0cnVlLCJjb250ZW50IjoicG9zdF9saW5rX3VybF9hdHRhY2htZW50Iiwic2V0dGluZ3MiOnsicG9zdF9pZCI6IjI1MDkifX0=@» url_new_window=»on» button_text=»RANKING» button_alignment=»center» _builder_version=»4.0.11″ custom_button=»on» button_text_color=»#000000″ button_bg_color=»#edf000″ hover_enabled=»0″ _dynamic_attributes=»button_url»][/et_pb_button][/et_pb_column][/et_pb_row][/et_pb_section]
URL:https://miguelangeljimenezgolfacademy.com/evento/circuito-de-golf-reale-galpe-8a-prueba/
LOCATION:Málaga
CATEGORIES:Torneo en MAJ|Tournament MAJ
END:VEVENT
END:VCALENDAR